BEGIN:VCALENDAR
VERSION:2.0
PRODID:spatie/icalendar-generator
DESCRIPTION:Events from City Of Carthage
X-WR-CALDESC:Events from City Of Carthage
REFRESH-INTERVAL;VALUE=DURATION:PT1440M
X-PUBLISHED-TTL:PT1440M
BEGIN:VTIMEZONE
TZID:Etc/GMT+0
BEGIN:STANDARD
DTSTART:20250722T070000Z
TZOFFSETFROM:+0000
TZOFFSETTO:+0000
END:STANDARD
END:VTIMEZONE
BEGIN:VTIMEZONE
TZID:UTC
BEGIN:STANDARD
DTSTART:20250728T041232Z
TZOFFSETFROM:+0000
TZOFFSETTO:+0000
END:STANDARD
END:VTIMEZONE
BEGIN:VEVENT
UID:246-240
DTSTAMP:20260424T041232Z
SUMMARY:McMillan Park League tournment
LOCATION:McMillan Park 515 Hwy 16 E   Carthage MS 39051
ORGANIZER;CN=Carthage City:MAILTO:pspears@cityofcarthage.org
DTSTART;TZID=Etc/GMT+0:20260418T070000
DTEND;TZID=Etc/GMT+0:20260418T080000
X-ALT-DESC;FMTTYPE=TEXT/HTML:
CATEGORIES:General
URL;VALUE=URI:https://www.cityofcarthage.org/mc-events/mcmillan-park-league
 -tournment/?mc_id=246
END:VEVENT
END:VCALENDAR