BEGIN:VCALENDAR
VERSION:2.0
PRODID:spatie/icalendar-generator
DESCRIPTION:Events from City Of Carthage
X-WR-CALDESC:Events from City Of Carthage
REFRESH-INTERVAL;VALUE=DURATION:PT1440M
X-PUBLISHED-TTL:PT1440M
BEGIN:VTIMEZONE
TZID:Etc/GMT+0
BEGIN:STANDARD
DTSTART:20230421T000000Z
TZOFFSETFROM:+0000
TZOFFSETTO:+0000
END:STANDARD
END:VTIMEZONE
BEGIN:VTIMEZONE
TZID:UTC
BEGIN:STANDARD
DTSTART:20250725T084208Z
TZOFFSETFROM:+0000
TZOFFSETTO:+0000
END:STANDARD
END:VTIMEZONE
BEGIN:VEVENT
UID:56-54
DTSTAMP:20260421T084208Z
SUMMARY:Municipal Court is canceled today January 16 due to road and bridge
  conditions and rescheduled for Tuesday February 20 at 2:00P.M.
LOCATION:
ORGANIZER;CN=Carthage City:MAILTO:pspears@cityofcarthage.org
DTSTART;TZID=Etc/GMT+0;VALUE=DATE:20240116
DTEND;TZID=Etc/GMT+0;VALUE=DATE:20240117
X-ALT-DESC;FMTTYPE=TEXT/HTML:
CATEGORIES:General
URL;VALUE=URI:https://www.cityofcarthage.org/mc-events/municipal-court-is-c
 anceled-today-january-16-due-to-road-and-bridge-conditions-and-rescheduled
 -for-tuesday-february-20-at-200p-m/?mc_id=56
END:VEVENT
END:VCALENDAR