BEGIN:VCALENDAR
VERSION:2.0
PRODID:spatie/icalendar-generator
DESCRIPTION:Events from City Of Carthage
X-WR-CALDESC:Events from City Of Carthage
REFRESH-INTERVAL;VALUE=DURATION:PT1440M
X-PUBLISHED-TTL:PT1440M
BEGIN:VTIMEZONE
TZID:Etc/GMT+0
BEGIN:STANDARD
DTSTART:20240321T080000Z
TZOFFSETFROM:+0000
TZOFFSETTO:+0000
END:STANDARD
END:VTIMEZONE
BEGIN:VTIMEZONE
TZID:UTC
BEGIN:STANDARD
DTSTART:20250724T234427Z
TZOFFSETFROM:+0000
TZOFFSETTO:+0000
END:STANDARD
END:VTIMEZONE
BEGIN:VEVENT
UID:111-108
DTSTAMP:20260420T234427Z
SUMMARY:Christmas Toy Drive
LOCATION:
ORGANIZER;CN=Carthage City:MAILTO:pspears@cityofcarthage.org
DTSTART;TZID=Etc/GMT+0:20241216T080000
DTEND;TZID=Etc/GMT+0:20241219T090000
X-ALT-DESC;FMTTYPE=TEXT/HTML:
CATEGORIES:General
URL;VALUE=URI:https://www.cityofcarthage.org/mc-events/christmas-toy-drive/
 ?mc_id=111
END:VEVENT
END:VCALENDAR