BEGIN:VCALENDAR
VERSION:2.0
PRODID:spatie/icalendar-generator
DESCRIPTION:Events from City Of Carthage
X-WR-CALDESC:Events from City Of Carthage
REFRESH-INTERVAL;VALUE=DURATION:PT1440M
X-PUBLISHED-TTL:PT1440M
BEGIN:VTIMEZONE
TZID:Etc/GMT+0
BEGIN:STANDARD
DTSTART:20230312T180000Z
TZOFFSETFROM:+0000
TZOFFSETTO:+0000
END:STANDARD
END:VTIMEZONE
BEGIN:VTIMEZONE
TZID:UTC
BEGIN:STANDARD
DTSTART:20250725T095819Z
TZOFFSETFROM:+0000
TZOFFSETTO:+0000
END:STANDARD
END:VTIMEZONE
BEGIN:VEVENT
UID:30-29
DTSTAMP:20260421T095819Z
SUMMARY:Christmas Parade (Carthage Square)
LOCATION:
ORGANIZER;CN=Carthage City:MAILTO:pspears@cityofcarthage.org
DTSTART;TZID=Etc/GMT+0:20231207T180000
DTEND;TZID=Etc/GMT+0:20231207T190000
X-ALT-DESC;FMTTYPE=TEXT/HTML:
CATEGORIES:General
URL;VALUE=URI:https://www.cityofcarthage.org/mc-events/christmas-parade-car
 thage-square/?mc_id=30
END:VEVENT
END:VCALENDAR