BEGIN:VCALENDAR
VERSION:2.0
PRODID:spatie/icalendar-generator
DESCRIPTION:Events from City Of Carthage
X-WR-CALDESC:Events from City Of Carthage
REFRESH-INTERVAL;VALUE=DURATION:PT1440M
X-PUBLISHED-TTL:PT1440M
BEGIN:VTIMEZONE
TZID:Etc/GMT+0
BEGIN:STANDARD
DTSTART:20260120T090000Z
TZOFFSETFROM:+0000
TZOFFSETTO:+0000
END:STANDARD
END:VTIMEZONE
BEGIN:VTIMEZONE
TZID:UTC
BEGIN:STANDARD
DTSTART:20250728T072215Z
TZOFFSETFROM:+0000
TZOFFSETTO:+0000
END:STANDARD
END:VTIMEZONE
BEGIN:VEVENT
UID:304-298
DTSTAMP:20260424T072215Z
SUMMARY:Oktoberfest at McMillan Park
LOCATION:McMillan Park 515 Hwy 16 E   Carthage MS 39051
ORGANIZER;CN=Carthage City:MAILTO:pspears@cityofcarthage.org
DTSTART;TZID=Etc/GMT+0:20261017T090000
DTEND;TZID=Etc/GMT+0:20261017T100000
X-ALT-DESC;FMTTYPE=TEXT/HTML:
CATEGORIES:General
URL;VALUE=URI:https://www.cityofcarthage.org/mc-events/oktoberfest-at-mcmil
 lan-park-2/?mc_id=304
END:VEVENT
END:VCALENDAR