BEGIN:VCALENDAR
VERSION:2.0
PRODID:spatie/icalendar-generator
DESCRIPTION:Events from City Of Carthage
X-WR-CALDESC:Events from City Of Carthage
REFRESH-INTERVAL;VALUE=DURATION:PT1440M
X-PUBLISHED-TTL:PT1440M
BEGIN:VTIMEZONE
TZID:Etc/GMT+0
BEGIN:STANDARD
DTSTART:20260301T080000Z
TZOFFSETFROM:+0000
TZOFFSETTO:+0000
END:STANDARD
END:VTIMEZONE
BEGIN:VTIMEZONE
TZID:UTC
BEGIN:STANDARD
DTSTART:20250728T020814Z
TZOFFSETFROM:+0000
TZOFFSETTO:+0000
END:STANDARD
END:VTIMEZONE
BEGIN:VEVENT
UID:319-313
DTSTAMP:20260424T020814Z
SUMMARY:City Hall Closed Thanksgiving Holiday
LOCATION:City Hall 212 W Main St  Carthage MS 39051
ORGANIZER;CN=Carthage City:MAILTO:pspears@cityofcarthage.org
DTSTART;TZID=Etc/GMT+0:20261126T080000
DTEND;TZID=Etc/GMT+0:20261127T090000
X-ALT-DESC;FMTTYPE=TEXT/HTML:
CATEGORIES:General
URL;VALUE=URI:https://www.cityofcarthage.org/mc-events/city-hall-closed-tha
 nksgiving-holiday-3/?mc_id=319
END:VEVENT
END:VCALENDAR